BEGIN:VCALENDAR
VERSION:2.0
PRODID:-//TALKmoreCORNWALL CIC - ECPv6.15.20//NONSGML v1.0//EN
CALSCALE:GREGORIAN
METHOD:PUBLISH
X-ORIGINAL-URL:https://talkmorecornwall.co.uk
X-WR-CALDESC:Events for TALKmoreCORNWALL CIC
REFRESH-INTERVAL;VALUE=DURATION:PT1H
X-Robots-Tag:noindex
X-PUBLISHED-TTL:PT1H
BEGIN:VTIMEZONE
TZID:Europe/London
BEGIN:DAYLIGHT
TZOFFSETFROM:+0000
TZOFFSETTO:+0100
TZNAME:BST
DTSTART:20250330T010000
END:DAYLIGHT
BEGIN:STANDARD
TZOFFSETFROM:+0100
TZOFFSETTO:+0000
TZNAME:GMT
DTSTART:20251026T010000
END:STANDARD
BEGIN:DAYLIGHT
TZOFFSETFROM:+0000
TZOFFSETTO:+0100
TZNAME:BST
DTSTART:20260329T010000
END:DAYLIGHT
BEGIN:STANDARD
TZOFFSETFROM:+0100
TZOFFSETTO:+0000
TZNAME:GMT
DTSTART:20261025T010000
END:STANDARD
BEGIN:DAYLIGHT
TZOFFSETFROM:+0000
TZOFFSETTO:+0100
TZNAME:BST
DTSTART:20270328T010000
END:DAYLIGHT
BEGIN:STANDARD
TZOFFSETFROM:+0100
TZOFFSETTO:+0000
TZNAME:GMT
DTSTART:20271031T010000
END:STANDARD
END:VTIMEZONE
BEGIN:VEVENT
DTSTART;TZID=Europe/London:20260423T093000
DTEND;TZID=Europe/London:20260423T133000
DTSTAMP:20260423T182236
CREATED:20260225T125338Z
LAST-MODIFIED:20260225T125338Z
UID:1528-1776936600-1776951000@talkmorecornwall.co.uk
SUMMARY:Level 3
DESCRIPTION:Thursdays 23rd & 30th April 2026 9.30am – 1.30pm \nThe level 3 workshop is conducted over 2 days.  You must attend both days to receive your certificate. \nThe Level 3 Workshop concentrates on improving and developing signing and symbol skills. You will learn translation and interpretation skills using signs and symbols. Presentations examine the assessment of users’ needs\, adapting communication to suit an individual’s needs and how to develop communication skills. You will revise the signs and symbols you learned on the Level 1 and 2 Workshop and learn the signs and symbols for Stages 5 and 6 of the Core Vocabulary. \nThe Level 3 Workshop is made up of 2 modules and will be delivered over 2 days. Participants must have completed the Level 1 and 2 Workshop (or Foundation/Beginners’ Workshop.) You will receive a workshop manual which includes the Makaton symbols and signs that you learn in the workshop. You will also be given a certificate of attendance. Please remember to keep your Level 3 Workshop certificate in case you want to attend further Makaton training. \nCost: £90 per person online (includes participant manual and certificate)
URL:https://talkmorecornwall.co.uk/event/level-3/
END:VEVENT
BEGIN:VEVENT
DTSTART;TZID=Europe/London:20260422T093000
DTEND;TZID=Europe/London:20260422T133000
DTSTAMP:20260423T182236
CREATED:20260225T123131Z
LAST-MODIFIED:20260225T123131Z
UID:1506-1776850200-1776864600@talkmorecornwall.co.uk
SUMMARY:Level 1
DESCRIPTION:Wednesdays 22nd & 29th April 2026:  9.30am – 1.30pm \nThe level 1 workshop is conducted over 2 days.  You must attend both sessions to receive your certificate. \nLevel 1 training is the starting point for learning Makaton. It is recommended for parents\, family members\, carers and workers who need to use Makaton at home and in their work\, as well as participants who need a more detailed knowledge about using and applying Makaton to develop the communication skills of others.  Level 1 training provides a practical introduction to the Makaton Language Programme. \nSessions include discussing commonly asked questions\, hints and tips for effective signing and symbol use and how to start using Makaton in everyday situations at home or work.  You will also learn the signs and symbols from Stages 1 and 2\, and some of the Additional stage\, of the Core Vocabulary. \nIf you attend a Level 1 workshop\, you will receive a workshop manual\, which includes the Makaton symbols and signs that you learn in the workshop.  You will also be given a certificate of attendance. Please remember to keep your Level 1 training certificate in case you want to attend further Makaton training. \nCost:  ONLINE £90 per person (includes manual and certificate)
URL:https://talkmorecornwall.co.uk/event/level-1-3/
END:VEVENT
BEGIN:VEVENT
DTSTART;TZID=Europe/London:20260415T093000
DTEND;TZID=Europe/London:20260415T133000
DTSTAMP:20260423T182236
CREATED:20260225T124150Z
LAST-MODIFIED:20260225T124309Z
UID:1516-1776245400-1776259800@talkmorecornwall.co.uk
SUMMARY:Level 2
DESCRIPTION:Wednesday 15th & Thursday 16th April 2026: 9.30am – 1.30pm \nThe level 2 workshop is conducted over 2 days.  You must attend both sessions to receive your certificate. \nYou will learn the signs and symbols from Stages 3 and 4\, and the rest of the Additional stage\, of the Core Vocabulary. You will learn more about the importance of symbols and how to personalise the vocabulary to meet the needs of the individuals in your family or your workplace. \nYou will receive a workshop manual\, which includes the Makaton symbols and signs that you learn in the workshop.  You will also be given a certificate of attendance. Please remember to keep your Level 2 training certificate in case you want to attend further Makaton training. \nCost: £90  per person online (includes participant manual and certificate)
URL:https://talkmorecornwall.co.uk/event/level-2/
END:VEVENT
BEGIN:VEVENT
DTSTART;TZID=Europe/London:20260413T093000
DTEND;TZID=Europe/London:20260413T133000
DTSTAMP:20260423T182236
CREATED:20260225T123013Z
LAST-MODIFIED:20260225T123325Z
UID:1504-1776072600-1776087000@talkmorecornwall.co.uk
SUMMARY:Level 1
DESCRIPTION:Monday 13th & Tuesday 15th April 2026:  9.30am – 1.30pm \nThe level 1 workshop is conducted over 2 days.  You must attend both sessions to receive your certificate. \nLevel 1 training is the starting point for learning Makaton. It is recommended for parents\, family members\, carers and workers who need to use Makaton at home and in their work\, as well as participants who need a more detailed knowledge about using and applying Makaton to develop the communication skills of others.  Level 1 training provides a practical introduction to the Makaton Language Programme. \nSessions include discussing commonly asked questions\, hints and tips for effective signing and symbol use and how to start using Makaton in everyday situations at home or work.  You will also learn the signs and symbols from Stages 1 and 2\, and some of the Additional stage\, of the Core Vocabulary. \nIf you attend a Level 1 workshop\, you will receive a workshop manual\, which includes the Makaton symbols and signs that you learn in the workshop.  You will also be given a certificate of attendance. Please remember to keep your Level 1 training certificate in case you want to attend further Makaton training. \nCost:  ONLINE £90 per person (includes manual and certificate)
URL:https://talkmorecornwall.co.uk/event/level-1-2/
END:VEVENT
BEGIN:VEVENT
DTSTART;TZID=Europe/London:20260325T093000
DTEND;TZID=Europe/London:20260325T114500
DTSTAMP:20260423T182236
CREATED:20260225T130321Z
LAST-MODIFIED:20260225T130448Z
UID:1538-1774431000-1774439100@talkmorecornwall.co.uk
SUMMARY:Using Makaton with Singing
DESCRIPTION:Wednesdays 25th March & 1st April 2026: 9.30am – 11.45am \nUsing Makaton with Singing\nUsing Makaton with Singing is a fun and easy way to learn to use signs with singing for young children. Signing and singing have been shown to encourage the development of communication and language skills and are beneficial for vocalisation\, confidence\, social skills\, emotional development\, well-being and self-esteem. \nThe 3 hour workshop is divided into four lively practical sessions covering:\nWhat is Makaton?\nTips for Signing\nDeveloping skills through signing and singing\nUsing Makaton in my setting\nThe workshop is designed for those who work with early years children.  You do not need to have any prior experience of using Makaton and/ or singing.  Alternatively\, you may already be using Makaton or have an interest in signing and want the opportunity to use Makaton while singing. \nYou will receive a Using Makaton with Singing workshop manual which includes the signs and symbols that you have learned.  You will also be given a certificate of attendance. \nCost:  £45 per person
URL:https://talkmorecornwall.co.uk/event/using-makaton-with-singing/
END:VEVENT
BEGIN:VEVENT
DTSTART;TZID=Europe/London:20260312T093000
DTEND;TZID=Europe/London:20260312T133000
DTSTAMP:20260423T182236
CREATED:20250917T091018Z
LAST-MODIFIED:20250917T091018Z
UID:1499-1773307800-1773322200@talkmorecornwall.co.uk
SUMMARY:Level 4
DESCRIPTION:Thursday 12th & 19th March 2026 9.30am – 1.30pm \nThe level 4 workshop is conducted over 2 days.  You must attend both days to receive your certificate.\n\nThe Level 4 workshop builds on the skills that you will have acquired in Level 3 and goes into more depth when thinking about interpretation\, translation and adapting your communication to keep things simple. You will learn the final stages of the Core Vocabulary; Stages  7 and 8\, with a particular focus on ‘time’ concepts .\n\nThe Level 4 workshop is made up of 2 modules.  Participants must have completed the Level 1 -3 workshops.  You will receive a workshop manual which includes the Makaton symbols and signs that you learn in the workshop. You will also be given a certificate of attendance. Please remember to keep your Level 4 Workshop certificate in case you want to attend further Makaton training.\n\nCost:£85 per person online (includes participant manual and certificate)
URL:https://talkmorecornwall.co.uk/event/level-4-4/
END:VEVENT
BEGIN:VEVENT
DTSTART;TZID=Europe/London:20260226T093000
DTEND;TZID=Europe/London:20260226T133000
DTSTAMP:20260423T182236
CREATED:20250917T090907Z
LAST-MODIFIED:20250917T090907Z
UID:1497-1772098200-1772112600@talkmorecornwall.co.uk
SUMMARY:Level 3
DESCRIPTION:Thursday 26th February & 5th March 2026 9.30am – 1.30pm \nThe level 3 workshop is conducted over 2 days.  You must attend both days to receive your certificate. \nThe Level 3 Workshop concentrates on improving and developing signing and symbol skills. You will learn translation and interpretation skills using signs and symbols. Presentations examine the assessment of users’ needs\, adapting communication to suit an individual’s needs and how to develop communication skills. You will revise the signs and symbols you learned on the Level 1 and 2 Workshop and learn the signs and symbols for Stages 5 and 6 of the Core Vocabulary. \nThe Level 3 Workshop is made up of 2 modules and will be delivered over 2 days. Participants must have completed the Level 1 and 2 Workshop (or Foundation/Beginners’ Workshop.) You will receive a workshop manual which includes the Makaton symbols and signs that you learn in the workshop. You will also be given a certificate of attendance. Please remember to keep your Level 3 Workshop certificate in case you want to attend further Makaton training. \nCost: £90 per person online (includes participant manual and certificate)
URL:https://talkmorecornwall.co.uk/event/level-3-4/
END:VEVENT
BEGIN:VEVENT
DTSTART;TZID=Europe/London:20260218T093000
DTEND;TZID=Europe/London:20260218T133000
DTSTAMP:20260423T182236
CREATED:20250917T090743Z
LAST-MODIFIED:20250917T090743Z
UID:1495-1771407000-1771421400@talkmorecornwall.co.uk
SUMMARY:Level 2
DESCRIPTION:Wednesdays 18th & Thursday 19th February 2026: 9.30am – 1.30pm \nThe level 2 workshop is conducted over 2 days.  You must attend both sessions to receive your certificate. \nYou will learn the signs and symbols from Stages 3 and 4\, and the rest of the Additional stage\, of the Core Vocabulary. You will learn more about the importance of symbols and how to personalise the vocabulary to meet the needs of the individuals in your family or your workplace. \nYou will receive a workshop manual\, which includes the Makaton symbols and signs that you learn in the workshop.  You will also be given a certificate of attendance. Please remember to keep your Level 2 training certificate in case you want to attend further Makaton training. \nCost: £90  per person online (includes participant manual and certificate)
URL:https://talkmorecornwall.co.uk/event/level-2-12/
END:VEVENT
BEGIN:VEVENT
DTSTART;TZID=Europe/London:20260216T093000
DTEND;TZID=Europe/London:20260216T133000
DTSTAMP:20260423T182236
CREATED:20250917T090532Z
LAST-MODIFIED:20250917T090532Z
UID:1491-1771234200-1771248600@talkmorecornwall.co.uk
SUMMARY:Level 1
DESCRIPTION:Monday16th & Tuesday 17th February 2026:  9.30am – 1.30pm \nThe level 1 workshop is conducted over 2 days.  You must attend both sessions to receive your certificate. \nLevel 1 training is the starting point for learning Makaton. It is recommended for parents\, family members\, carers and workers who need to use Makaton at home and in their work\, as well as participants who need a more detailed knowledge about using and applying Makaton to develop the communication skills of others.  Level 1 training provides a practical introduction to the Makaton Language Programme. \nSessions include discussing commonly asked questions\, hints and tips for effective signing and symbol use and how to start using Makaton in everyday situations at home or work.  You will also learn the signs and symbols from Stages 1 and 2\, and some of the Additional stage\, of the Core Vocabulary. \nIf you attend a Level 1 workshop\, you will receive a workshop manual\, which includes the Makaton symbols and signs that you learn in the workshop.  You will also be given a certificate of attendance. Please remember to keep your Level 1 training certificate in case you want to attend further Makaton training. \nCost:  ONLINE £90 per person (includes manual and certificate)
URL:https://talkmorecornwall.co.uk/event/level-1-11/
END:VEVENT
BEGIN:VEVENT
DTSTART;TZID=Europe/London:20260204T093000
DTEND;TZID=Europe/London:20260204T133000
DTSTAMP:20260423T182236
CREATED:20250917T090650Z
LAST-MODIFIED:20250917T090650Z
UID:1493-1770197400-1770211800@talkmorecornwall.co.uk
SUMMARY:Level 2
DESCRIPTION:Wednesdays 4th & 11th February 2026: 9.30am – 1.30pm \nThe level 2 workshop is conducted over 2 days.  You must attend both sessions to receive your certificate. \nYou will learn the signs and symbols from Stages 3 and 4\, and the rest of the Additional stage\, of the Core Vocabulary. You will learn more about the importance of symbols and how to personalise the vocabulary to meet the needs of the individuals in your family or your workplace. \nYou will receive a workshop manual\, which includes the Makaton symbols and signs that you learn in the workshop.  You will also be given a certificate of attendance. Please remember to keep your Level 2 training certificate in case you want to attend further Makaton training. \nCost: £90  per person online (includes participant manual and certificate)
URL:https://talkmorecornwall.co.uk/event/level-2-11/
END:VEVENT
BEGIN:VEVENT
DTSTART;TZID=Europe/London:20260114T093000
DTEND;TZID=Europe/London:20260114T133000
DTSTAMP:20260423T182236
CREATED:20250917T090425Z
LAST-MODIFIED:20250917T090425Z
UID:1489-1768383000-1768397400@talkmorecornwall.co.uk
SUMMARY:Level 1
DESCRIPTION:Wednesdays 14th & 21st January 2026:  9.30am – 1.30pm \nThe level 1 workshop is conducted over 2 days.  You must attend both sessions to receive your certificate. \nLevel 1 training is the starting point for learning Makaton. It is recommended for parents\, family members\, carers and workers who need to use Makaton at home and in their work\, as well as participants who need a more detailed knowledge about using and applying Makaton to develop the communication skills of others.  Level 1 training provides a practical introduction to the Makaton Language Programme. \nSessions include discussing commonly asked questions\, hints and tips for effective signing and symbol use and how to start using Makaton in everyday situations at home or work.  You will also learn the signs and symbols from Stages 1 and 2\, and some of the Additional stage\, of the Core Vocabulary. \nIf you attend a Level 1 workshop\, you will receive a workshop manual\, which includes the Makaton symbols and signs that you learn in the workshop.  You will also be given a certificate of attendance. Please remember to keep your Level 1 training certificate in case you want to attend further Makaton training. \nCost:  ONLINE £90 per person (includes manual and certificate)
URL:https://talkmorecornwall.co.uk/event/level-1-10/
END:VEVENT
END:VCALENDAR